BEGIN:VCALENDAR
VERSION:2.0
PRODID:-//Chiaki Real Estate School - ECPv6.15.17.1//NONSGML v1.0//EN
CALSCALE:GREGORIAN
METHOD:PUBLISH
X-ORIGINAL-URL:https://cres.school
X-WR-CALDESC:Events for Chiaki Real Estate School
REFRESH-INTERVAL;VALUE=DURATION:PT1H
X-Robots-Tag:noindex
X-PUBLISHED-TTL:PT1H
BEGIN:VTIMEZONE
TZID:America/Chicago
BEGIN:DAYLIGHT
TZOFFSETFROM:-0600
TZOFFSETTO:-0500
TZNAME:CDT
DTSTART:20240310T080000
END:DAYLIGHT
BEGIN:STANDARD
TZOFFSETFROM:-0500
TZOFFSETTO:-0600
TZNAME:CST
DTSTART:20241103T070000
END:STANDARD
BEGIN:DAYLIGHT
TZOFFSETFROM:-0600
TZOFFSETTO:-0500
TZNAME:CDT
DTSTART:20250309T080000
END:DAYLIGHT
BEGIN:STANDARD
TZOFFSETFROM:-0500
TZOFFSETTO:-0600
TZNAME:CST
DTSTART:20251102T070000
END:STANDARD
BEGIN:DAYLIGHT
TZOFFSETFROM:-0600
TZOFFSETTO:-0500
TZNAME:CDT
DTSTART:20260308T080000
END:DAYLIGHT
BEGIN:STANDARD
TZOFFSETFROM:-0500
TZOFFSETTO:-0600
TZNAME:CST
DTSTART:20261101T070000
END:STANDARD
END:VTIMEZONE
BEGIN:VEVENT
DTSTART;TZID=America/Chicago:20250520T120000
DTEND;TZID=America/Chicago:20250520T160000
DTSTAMP:20260419T171921
CREATED:20250213T055939Z
LAST-MODIFIED:20250518T010648Z
UID:10000198-1747742400-1747756800@cres.school
SUMMARY:May 20th Securing Buyer's Rep Commission
DESCRIPTION:TREC-Approved CE Course | 2 Hours | Live on Zoom \n\n\n\nIn today’s shifting market\, getting paid isn’t automatic. \n\n\n\nWith new NAR rules affecting how buyer agents earn commissions\, it’s more important than ever to protect your paycheck — in writing. \n\n\n\nIn this 2-hour CE class\, you’ll learn how to: \n\n\n\n\nUse the Compensation Agreement Between Brokers effectively\n\n\n\nNavigate paragraph 12.A.(1)(b) of the One to Four Family Contract\n\n\n\nStay compliant while securing your commission on every deal\n\n\n\nAdapt to the new post-settlement landscape with confidence\n\n\n\n\nLive\, Interactive Zoom session2 Hours TREC-Approved CE CreditJust $25 \n\n\n\nWhether you’re a seasoned buyer’s agent or just want to avoid unpaid showings\, this class gives you the tools to get paid and stay protected.
URL:https://cres.school/event/may-20th-securing-buyers-rep-commission/
CATEGORIES:May CE Courses,Securing Buyer’s Rep Commission
LOCATION:https://us02web.zoom.us/j/87484993063?pwd=aDVJPOWeplabyete1DzX22zaTCk6uu.1
END:VEVENT
BEGIN:VEVENT
DTSTART;TZID=America/Chicago:20250515T120000
DTEND;TZID=America/Chicago:20250515T160000
DTSTAMP:20260419T171921
CREATED:20250213T055801Z
LAST-MODIFIED:20250502T171322Z
UID:10000197-1747310400-1747324800@cres.school
SUMMARY:May 15th Exploring the Farm & Ranch Contract
DESCRIPTION:
URL:https://cres.school/event/may-15th-exploring-the-farm-ranch-contract-2/
CATEGORIES:Exploring the Farm and Ranch Contract,May CE Courses
LOCATION:https://us02web.zoom.us/j/84293338040?pwd=NGquNuEbtYubKA4vcdwJldxlTkhphA.1
END:VEVENT
BEGIN:VEVENT
DTSTART;TZID=America/Chicago:20250513T120000
DTEND;TZID=America/Chicago:20250513T150000
DTSTAMP:20260419T171921
CREATED:20250213T055624Z
LAST-MODIFIED:20250502T171333Z
UID:10000196-1747137600-1747148400@cres.school
SUMMARY:May 13th Exploring the Commercial Contract
DESCRIPTION:
URL:https://cres.school/event/may-13th-exploring-the-commercial-contract/
CATEGORIES:Exploring the Commercial Contract,May CE Courses
LOCATION:https://us02web.zoom.us/j/86595088944?pwd=Zgdy2hKrkIGMrOBjX7eGTGp5k0n2Ns.1
END:VEVENT
BEGIN:VEVENT
DTSTART;TZID=America/Chicago:20250506T120000
DTEND;TZID=America/Chicago:20250506T160000
DTSTAMP:20260419T171921
CREATED:20250213T055241Z
LAST-MODIFIED:20250502T171350Z
UID:10000194-1746532800-1746547200@cres.school
SUMMARY:May 6th Legal Update II
DESCRIPTION:
URL:https://cres.school/event/may-6th-legal-update-ii/
CATEGORIES:May CE Courses,TREC Legal Update 2
LOCATION:https://us02web.zoom.us/j/88209229183?pwd=UwxbQkFUh0fSUYVCGYEQAx2SGXHbwN.1
END:VEVENT
END:VCALENDAR