BEGIN:VCALENDAR
VERSION:2.0
PRODID:-//Chiaki Real Estate School - ECPv6.15.17.1//NONSGML v1.0//EN
CALSCALE:GREGORIAN
METHOD:PUBLISH
X-WR-CALNAME:Chiaki Real Estate School
X-ORIGINAL-URL:https://cres.school
X-WR-CALDESC:Events for Chiaki Real Estate School
REFRESH-INTERVAL;VALUE=DURATION:PT1H
X-Robots-Tag:noindex
X-PUBLISHED-TTL:PT1H
BEGIN:VTIMEZONE
TZID:America/Chicago
BEGIN:DAYLIGHT
TZOFFSETFROM:-0600
TZOFFSETTO:-0500
TZNAME:CDT
DTSTART:20240310T080000
END:DAYLIGHT
BEGIN:STANDARD
TZOFFSETFROM:-0500
TZOFFSETTO:-0600
TZNAME:CST
DTSTART:20241103T070000
END:STANDARD
BEGIN:DAYLIGHT
TZOFFSETFROM:-0600
TZOFFSETTO:-0500
TZNAME:CDT
DTSTART:20250309T080000
END:DAYLIGHT
BEGIN:STANDARD
TZOFFSETFROM:-0500
TZOFFSETTO:-0600
TZNAME:CST
DTSTART:20251102T070000
END:STANDARD
BEGIN:DAYLIGHT
TZOFFSETFROM:-0600
TZOFFSETTO:-0500
TZNAME:CDT
DTSTART:20260308T080000
END:DAYLIGHT
BEGIN:STANDARD
TZOFFSETFROM:-0500
TZOFFSETTO:-0600
TZNAME:CST
DTSTART:20261101T070000
END:STANDARD
BEGIN:DAYLIGHT
TZOFFSETFROM:-0600
TZOFFSETTO:-0500
TZNAME:CDT
DTSTART:20270314T080000
END:DAYLIGHT
BEGIN:STANDARD
TZOFFSETFROM:-0500
TZOFFSETTO:-0600
TZNAME:CST
DTSTART:20271107T070000
END:STANDARD
END:VTIMEZONE
BEGIN:VTIMEZONE
TZID:America/Chicago
BEGIN:DAYLIGHT
TZOFFSETFROM:-0600
TZOFFSETTO:-0500
TZNAME:CDT
DTSTART:20240310T080000
END:DAYLIGHT
BEGIN:STANDARD
TZOFFSETFROM:-0500
TZOFFSETTO:-0600
TZNAME:CST
DTSTART:20241103T070000
END:STANDARD
BEGIN:DAYLIGHT
TZOFFSETFROM:-0600
TZOFFSETTO:-0500
TZNAME:CDT
DTSTART:20250309T080000
END:DAYLIGHT
BEGIN:STANDARD
TZOFFSETFROM:-0500
TZOFFSETTO:-0600
TZNAME:CST
DTSTART:20251102T070000
END:STANDARD
BEGIN:DAYLIGHT
TZOFFSETFROM:-0600
TZOFFSETTO:-0500
TZNAME:CDT
DTSTART:20260308T080000
END:DAYLIGHT
BEGIN:STANDARD
TZOFFSETFROM:-0500
TZOFFSETTO:-0600
TZNAME:CST
DTSTART:20261101T070000
END:STANDARD
END:VTIMEZONE
BEGIN:VEVENT
DTSTART;TZID=America/Chicago:20251014T120000
DTEND;TZID=America/Chicago:20251014T150000
DTSTAMP:20260419T211847
CREATED:20250213T065750Z
LAST-MODIFIED:20250312T164005Z
UID:10000222-1760443200-1760454000@cres.school
SUMMARY:October 14th Exploring the Commercial Contract
DESCRIPTION:
URL:https://cres.school/event/october-14th-exploring-the-commercial-contract/
CATEGORIES:Exploring the Commercial Contract
LOCATION:https://us02web.zoom.us/j/81345151195?pwd=3UoL1V9dIEk7kf0vRa3isVmgEVFZCe.1
END:VEVENT
BEGIN:VEVENT
DTSTART;TZID=America/Chicago:20251015T120000
DTEND;TZID=America/Chicago:20251015T130000
DTSTAMP:20260419T211847
CREATED:20250502T231927Z
LAST-MODIFIED:20250504T145325Z
UID:10000243-1760529600-1760533200@cres.school
SUMMARY:October 15th New Buyer's Rep Short Form 101
DESCRIPTION:Most agents don’t fully understand the Residential Buyer/Tenant Representation Agreement – Short Form (TXR-1507). Even fewer can explain it clearly to their clients.That’s a problem — because this isn’t just a form…\nIt’s your permission slip to represent\, your contract for compensation\, and your shield in case of disputes.\nIn this focused 1-hour course\, you’ll:\n✅ Break down every paragraph so you know what you’re really asking your client to sign\n✅ Learn how to communicate the value of buyer representation without sounding like a lawyer\n✅ Understand the risks of vague or missing terms — and how to avoid common pitfalls\n✅ Feel confident handling objections like “Do I really need to sign this?”\nYou’ll walk away with the confidence to:\nSecure buyer loyalty up front\nProtect your commissions\nCreate a smoother\, more professional client experience\nWho should attend?\nThis course is ideal for any agent who works with buyers — whether you’re newer to the field or simply tired of awkward contract convos that make everyone squirm.\nPro Tip: Agents who clearly explain this form get more trust — and more signed clients. Let this be the class that turns buyer consults into signed agreements.
URL:https://cres.school/event/new-buyers-rep-short-form-103/
CATEGORIES:Buyer's Rep Short Form 101,October CE Courses
LOCATION:https://cres.school/event/new-buyers-rep-short-form-103/
END:VEVENT
BEGIN:VEVENT
DTSTART;TZID=America/Chicago:20251016T120000
DTEND;TZID=America/Chicago:20251016T160000
DTSTAMP:20260419T211847
CREATED:20250213T065919Z
LAST-MODIFIED:20250312T164021Z
UID:10000223-1760616000-1760630400@cres.school
SUMMARY:October 16th Exploring the Farm & Ranch Contract
DESCRIPTION:
URL:https://cres.school/event/october-16th-exploring-the-farm-ranch-contract/
CATEGORIES:Exploring the Farm and Ranch Contract
LOCATION:https://us02web.zoom.us/j/84103638317?pwd=pUQ519xoszTbUjGMTXsaf6CtG9qVBJ.1
END:VEVENT
BEGIN:VEVENT
DTSTART;TZID=America/Chicago:20251104T120000
DTEND;TZID=America/Chicago:20251104T160000
DTSTAMP:20260419T211847
CREATED:20250213T070104Z
LAST-MODIFIED:20250312T164029Z
UID:10000224-1762257600-1762272000@cres.school
SUMMARY:November 4th Legal Update I
DESCRIPTION:
URL:https://cres.school/event/november-4th-legal-update-i/
CATEGORIES:TREC Legal Update 1
LOCATION:https://us02web.zoom.us/j/89270500961?pwd=QZIzWDFp8Ed4NHWRwIPsz6yafHWr9i.1
END:VEVENT
BEGIN:VEVENT
DTSTART;TZID=America/Chicago:20251106T120000
DTEND;TZID=America/Chicago:20251106T160000
DTSTAMP:20260419T211847
CREATED:20250213T070229Z
LAST-MODIFIED:20250312T164040Z
UID:10000225-1762430400-1762444800@cres.school
SUMMARY:November 6th Legal Update II
DESCRIPTION:
URL:https://cres.school/event/november-6th-legal-update-ii/
CATEGORIES:TREC Legal Update 2
LOCATION:https://us02web.zoom.us/j/82876394864?pwd=gxAPiQ18YmT8QZpwbMCpkaArx74IbF.1
END:VEVENT
BEGIN:VEVENT
DTSTART;TZID=America/Chicago:20251111T120000
DTEND;TZID=America/Chicago:20251111T150000
DTSTAMP:20260419T211847
CREATED:20250213T070335Z
LAST-MODIFIED:20250312T164050Z
UID:10000226-1762862400-1762873200@cres.school
SUMMARY:November 11th Exploring the 1 to 4 Family Contract
DESCRIPTION:
URL:https://cres.school/event/november-11th-exploring-the-1-to-4-family-contract/
CATEGORIES:Exploring the 1 to 4 Family Contract
LOCATION:https://us02web.zoom.us/j/85864090523?pwd=2xhoGelRWrAByOqazaYJuJnHDs2Nc3.1
END:VEVENT
BEGIN:VEVENT
DTSTART;TZID=America/Chicago:20251113T120000
DTEND;TZID=America/Chicago:20251113T150000
DTSTAMP:20260419T211847
CREATED:20250213T070437Z
LAST-MODIFIED:20250312T164057Z
UID:10000227-1763035200-1763046000@cres.school
SUMMARY:November 13th Exploring the Commercial Contract
DESCRIPTION:
URL:https://cres.school/event/november-13th-exploring-the-commercial-contract/
CATEGORIES:Exploring the Commercial Contract
LOCATION:https://us02web.zoom.us/j/89848946256?pwd=bj4e2ssKgCAzcBJPT8eUmgQacKK5bd.1
END:VEVENT
BEGIN:VEVENT
DTSTART;TZID=America/Chicago:20251118T120000
DTEND;TZID=America/Chicago:20251118T160000
DTSTAMP:20260419T211847
CREATED:20250213T070545Z
LAST-MODIFIED:20250312T164107Z
UID:10000228-1763467200-1763481600@cres.school
SUMMARY:November 18th Exploring the Farm & Ranch Contract
DESCRIPTION:
URL:https://cres.school/event/november-18th-exploring-the-farm-ranch-contract/
CATEGORIES:Exploring the Farm and Ranch Contract
LOCATION:https://us02web.zoom.us/j/85797213762?pwd=UJGdo0dTYnzaZPPPFWcmdKyFZL7Rtm.1
END:VEVENT
BEGIN:VEVENT
DTSTART;TZID=America/Chicago:20251202T120000
DTEND;TZID=America/Chicago:20251202T160000
DTSTAMP:20260419T211847
CREATED:20250213T070815Z
LAST-MODIFIED:20250512T210507Z
UID:10000229-1764676800-1764691200@cres.school
SUMMARY:December 2nd Legal Update I
DESCRIPTION:
URL:https://cres.school/event/december-2nd-legal-update-i/
CATEGORIES:TREC Legal Update 1
LOCATION:https://us02web.zoom.us/j/81103590231?pwd=i2nhCdFnt5LL664L73urFIpbqlhy7b.1
END:VEVENT
BEGIN:VEVENT
DTSTART;TZID=America/Chicago:20251204T120000
DTEND;TZID=America/Chicago:20251204T160000
DTSTAMP:20260419T211847
CREATED:20250213T070936Z
LAST-MODIFIED:20250312T164121Z
UID:10000230-1764849600-1764864000@cres.school
SUMMARY:December 4th Legal Update II
DESCRIPTION:
URL:https://cres.school/event/december-4th-legal-update-ii/
CATEGORIES:TREC Legal Update 2
LOCATION:https://us02web.zoom.us/j/89937924637?pwd=vC7BCk1vQ5yr0d2KIht1r8E6iHBEYv.1
END:VEVENT
BEGIN:VEVENT
DTSTART;TZID=America/Chicago:20251209T120000
DTEND;TZID=America/Chicago:20251209T150000
DTSTAMP:20260419T211847
CREATED:20250213T071059Z
LAST-MODIFIED:20250312T164144Z
UID:10000231-1765281600-1765292400@cres.school
SUMMARY:December 9th Exploring the 1 to 4 Family Contract
DESCRIPTION:
URL:https://cres.school/event/december-9th-exploring-the-1-to-4-family-contract/
CATEGORIES:Exploring the 1 to 4 Family Contract
LOCATION:https://us02web.zoom.us/j/85836679175?pwd=plBZ8G00atrwbigcacnX33MFtlcqJI.1
END:VEVENT
BEGIN:VEVENT
DTSTART;TZID=America/Chicago:20251210T120000
DTEND;TZID=America/Chicago:20251210T130000
DTSTAMP:20260419T211847
CREATED:20250502T231928Z
LAST-MODIFIED:20250512T220950Z
UID:10000244-1765368000-1765371600@cres.school
SUMMARY:December 10th New Buyer's Rep Short Form 101
DESCRIPTION:Most agents don’t fully understand the Residential Buyer/Tenant Representation Agreement – Short Form (TXR-1507). Even fewer can explain it clearly to their clients.That’s a problem — because this isn’t just a form…It’s your permission slip to represent\, your contract for compensation\, and your shield in case of disputes.In this focused 1-hour course\, you’ll:✅ Break down every paragraph so you know what you’re really asking your client to sign✅ Learn how to communicate the value of buyer representation without sounding like a lawyer✅ Understand the risks of vague or missing terms — and how to avoid common pitfalls✅ Feel confident handling objections like “Do I really need to sign this?”You’ll walk away with the confidence to:Secure buyer loyalty up frontProtect your commissionsCreate a smoother\, more professional client experienceWho should attend?This course is ideal for any agent who works with buyers — whether you’re newer to the field or simply tired of awkward contract convos that make everyone squirm.Pro Tip: Agents who clearly explain this form get more trust — and more signed clients. Let this be the class that turns buyer consults into signed agreements.
URL:https://cres.school/event/dec-10th-new-buyers-rep-short-form-101/
CATEGORIES:Buyer's Rep Short Form 101,December CE Courses
LOCATION:https://cres.school/event/dec-10th-new-buyers-rep-short-form-101/
END:VEVENT
BEGIN:VEVENT
DTSTART;TZID=America/Chicago:20251211T120000
DTEND;TZID=America/Chicago:20251211T150000
DTSTAMP:20260419T211847
CREATED:20250213T071210Z
LAST-MODIFIED:20250512T212646Z
UID:10000232-1765454400-1765465200@cres.school
SUMMARY:December 11th Exploring the Commercial Contract
DESCRIPTION:
URL:https://cres.school/event/december-11th-exploring-the-commercial-contract/
CATEGORIES:December CE Courses,Exploring the Commercial Contract
LOCATION:https://us02web.zoom.us/j/87855252659?pwd=ecrqg1oRqJRH7k2iGWovp2utzvbjHu.1
END:VEVENT
BEGIN:VEVENT
DTSTART;TZID=America/Chicago:20251216T120000
DTEND;TZID=America/Chicago:20251216T160000
DTSTAMP:20260419T211847
CREATED:20250213T071327Z
LAST-MODIFIED:20250512T215200Z
UID:10000233-1765886400-1765900800@cres.school
SUMMARY:December 16th Exploring the Farm & Ranch Contract
DESCRIPTION:
URL:https://cres.school/event/december-16th-exploring-the-farm-ranch-contract/
CATEGORIES:CE Courses,December CE Courses,Exploring the Farm and Ranch Contract
LOCATION:https://cres.school/event/december-16th-exploring-the-farm-ranch-contract/
END:VEVENT
BEGIN:VEVENT
DTSTART;TZID=America/Chicago:20260113T120000
DTEND;TZID=America/Chicago:20260113T130000
DTSTAMP:20260419T211847
CREATED:20260313T225653Z
LAST-MODIFIED:20260314T165242Z
UID:10000245-1768305600-1768309200@cres.school
SUMMARY:Dissecting the Loan Assumption Addendum
DESCRIPTION:Dissecting the Loan Assumption Addendum [course# 37910-RECE] \n\n\n\n\nREGISTER
URL:https://cres.school/event/dissecting-the-loan-assumption-addendum/
END:VEVENT
BEGIN:VEVENT
DTSTART;TZID=America/Chicago:20260115T120000
DTEND;TZID=America/Chicago:20260115T130000
DTSTAMP:20260419T211847
CREATED:20260314T164636Z
LAST-MODIFIED:20260314T164720Z
UID:10000246-1768478400-1768482000@cres.school
SUMMARY:Dissecting the Seller Financing Addendum
DESCRIPTION:Dissecting the Seller Financing Addendum [course# 37909-RECE] \n\n\n\n\nRegister
URL:https://cres.school/event/dissecting-the-seller-financing-addendum/
END:VEVENT
BEGIN:VEVENT
DTSTART;TZID=America/Chicago:20260120T120000
DTEND;TZID=America/Chicago:20260120T150000
DTSTAMP:20260419T211847
CREATED:20260314T165557Z
LAST-MODIFIED:20260314T165638Z
UID:10000247-1768910400-1768921200@cres.school
SUMMARY:Dissecting the Listing Agreement
DESCRIPTION:Dissecting the Listing Agreement \n\n\n\n[course# 37913-RECE] \n\n\n\n\n\n\nRegister
URL:https://cres.school/event/dissecting-the-listing-agreement/
END:VEVENT
BEGIN:VEVENT
DTSTART;TZID=America/Chicago:20260122T120000
DTEND;TZID=America/Chicago:20260122T130000
DTSTAMP:20260419T211847
CREATED:20260314T165928Z
LAST-MODIFIED:20260314T170005Z
UID:10000248-1769083200-1769086800@cres.school
SUMMARY:Constructing Back Up Offers
DESCRIPTION:Constructing Back Up Offers \n\n\n\n[course# 37911-RECE] \n\n\n\n\nRegister
URL:https://cres.school/event/constructing-back-up-offers/
END:VEVENT
BEGIN:VEVENT
DTSTART;TZID=America/Chicago:20260127T120000
DTEND;TZID=America/Chicago:20260127T150000
DTSTAMP:20260419T211847
CREATED:20260314T170108Z
LAST-MODIFIED:20260314T170330Z
UID:10000249-1769515200-1769526000@cres.school
SUMMARY:Dissecting the 1 to 4 Family Contract
DESCRIPTION:Dissecting the 1 to 4 Family Contract \n\n\n\n[course# 37916-RECE] \n\n\n\n\n\n\nRegister
URL:https://cres.school/event/dissecting-the-1-to-4-family-contract/
END:VEVENT
BEGIN:VEVENT
DTSTART;TZID=America/Chicago:20260129T120000
DTEND;TZID=America/Chicago:20260129T140000
DTSTAMP:20260419T211847
CREATED:20260314T170404Z
LAST-MODIFIED:20260314T170441Z
UID:10000250-1769688000-1769695200@cres.school
SUMMARY:Securing Buyer's Rep Commission
DESCRIPTION:Securing Buyer’s Rep Commission \n\n\n\n[course# 37906-RECE] \n\n\n\n\n\n\nRegister
URL:https://cres.school/event/securing-buyers-rep-commission/
END:VEVENT
BEGIN:VEVENT
DTSTART;TZID=America/Chicago:20260203T120000
DTEND;TZID=America/Chicago:20260203T130000
DTSTAMP:20260419T211847
CREATED:20260314T170654Z
LAST-MODIFIED:20260314T171015Z
UID:10000251-1770120000-1770123600@cres.school
SUMMARY:Making Offers Contingent on Buyer Selling Their Home First
DESCRIPTION:Making Offers Contingent on Buyer Selling Their Home First \n\n\n\n[course# 37914-RECE] \n\n\n\n\n\n\nRegister
URL:https://cres.school/event/making-offers-contingent-on-buyer-selling-their-home-first/
END:VEVENT
BEGIN:VEVENT
DTSTART;TZID=America/Chicago:20260205T120000
DTEND;TZID=America/Chicago:20260205T150000
DTSTAMP:20260419T211847
CREATED:20260314T170928Z
LAST-MODIFIED:20260314T171013Z
UID:10000252-1770292800-1770303600@cres.school
SUMMARY:Reduce Liability Via General Information and Notice to Consumer
DESCRIPTION:Reduce Liability Via General Information and Notice to Consumer \n\n\n\n[course# 37912-RECE] \n\n\n\n\n\n\nRegister
URL:https://cres.school/event/reduce-liability-via-general-information-and-notice-to-consumer/
END:VEVENT
BEGIN:VEVENT
DTSTART;TZID=America/Chicago:20260210T120000
DTEND;TZID=America/Chicago:20260210T160000
DTSTAMP:20260419T211847
CREATED:20260314T171207Z
LAST-MODIFIED:20260314T171243Z
UID:10000253-1770724800-1770739200@cres.school
SUMMARY:TREC Legal Update I
DESCRIPTION:TREC Legal Update I \n\n\n\n[course# 10074-RECE] \n\n\n\n\n\n\nRegister
URL:https://cres.school/event/trec-legal-update-i/
END:VEVENT
BEGIN:VEVENT
DTSTART;TZID=America/Chicago:20260212T120000
DTEND;TZID=America/Chicago:20260212T130000
DTSTAMP:20260419T211847
CREATED:20260314T171427Z
LAST-MODIFIED:20260314T171502Z
UID:10000254-1770897600-1770901200@cres.school
SUMMARY:Dissecting the Seller Financing Addendum
DESCRIPTION:Dissecting the Seller Financing Addendum [course# 37909-RECE] \n\n\n\n\n\n\nRegister
URL:https://cres.school/event/dissecting-the-seller-financing-addendum-2/
END:VEVENT
BEGIN:VEVENT
DTSTART;TZID=America/Chicago:20260217T120000
DTEND;TZID=America/Chicago:20260217T160000
DTSTAMP:20260419T211847
CREATED:20260314T171830Z
LAST-MODIFIED:20260314T171912Z
UID:10000255-1771329600-1771344000@cres.school
SUMMARY:TREC Legal Update II
DESCRIPTION:TREC Legal Update II \n\n\n\n[course# 10075-RECE] \n\n\n\n\n\n\nRegister
URL:https://cres.school/event/trec-legal-update-ii/
END:VEVENT
BEGIN:VEVENT
DTSTART;TZID=America/Chicago:20260219T120000
DTEND;TZID=America/Chicago:20260219T130000
DTSTAMP:20260419T211847
CREATED:20260314T172101Z
LAST-MODIFIED:20260314T172137Z
UID:10000256-1771502400-1771506000@cres.school
SUMMARY:Dissecting the Loan Assumption Addendum
DESCRIPTION:Dissecting the Loan Assumption Addendum [course# 37910-RECE] \n\n\n\n\n\n\nRegister
URL:https://cres.school/event/dissecting-the-loan-assumption-addendum-2/
END:VEVENT
BEGIN:VEVENT
DTSTART;TZID=America/Chicago:20260303T120000
DTEND;TZID=America/Chicago:20260303T150000
DTSTAMP:20260419T211847
CREATED:20260314T172314Z
LAST-MODIFIED:20260314T172349Z
UID:10000257-1772539200-1772550000@cres.school
SUMMARY:Dissecting the Commercial Contract
DESCRIPTION:Dissecting the Commercial Contract \n\n\n\n[course# 37915-RECE] \n\n\n\n\n\n\nRegister
URL:https://cres.school/event/dissecting-the-commercial-contract/
END:VEVENT
BEGIN:VEVENT
DTSTART;TZID=America/Chicago:20260305T120000
DTEND;TZID=America/Chicago:20260305T160000
DTSTAMP:20260419T211847
CREATED:20260314T172544Z
LAST-MODIFIED:20260314T172619Z
UID:10000258-1772712000-1772726400@cres.school
SUMMARY:TREC Legal Update II
DESCRIPTION:TREC Legal Update II \n\n\n\n[course# 10075-RECE] \n\n\n\n\n\n\nRegister
URL:https://cres.school/event/trec-legal-update-ii-2/
END:VEVENT
BEGIN:VEVENT
DTSTART;TZID=America/Chicago:20260310T120000
DTEND;TZID=America/Chicago:20260310T160000
DTSTAMP:20260419T211847
CREATED:20260314T172759Z
LAST-MODIFIED:20260314T172840Z
UID:10000259-1773144000-1773158400@cres.school
SUMMARY:Dissecting the Farm & Ranch Contract
DESCRIPTION:Dissecting the Farm & Ranch Contract \n\n\n\n[course# 37917-RECE] \n\n\n\n\n\n\nRegister
URL:https://cres.school/event/dissecting-the-farm-ranch-contract/
END:VEVENT
BEGIN:VEVENT
DTSTART;TZID=America/Chicago:20260312T120000
DTEND;TZID=America/Chicago:20260312T130000
DTSTAMP:20260419T211847
CREATED:20260314T173000Z
LAST-MODIFIED:20260314T173035Z
UID:10000260-1773316800-1773320400@cres.school
SUMMARY:Constructing Back Up Offers
DESCRIPTION:Constructing Back Up Offers \n\n\n\n[course# 37911-RECE] \n\n\n\n\n\n\nRegister
URL:https://cres.school/event/constructing-back-up-offers-2/
END:VEVENT
END:VCALENDAR