BEGIN:VCALENDAR
VERSION:2.0
PRODID:-//Chiaki Real Estate School - ECPv6.15.17.1//NONSGML v1.0//EN
CALSCALE:GREGORIAN
METHOD:PUBLISH
X-WR-CALNAME:Chiaki Real Estate School
X-ORIGINAL-URL:https://cres.school
X-WR-CALDESC:Events for Chiaki Real Estate School
REFRESH-INTERVAL;VALUE=DURATION:PT1H
X-Robots-Tag:noindex
X-PUBLISHED-TTL:PT1H
BEGIN:VTIMEZONE
TZID:America/Chicago
BEGIN:DAYLIGHT
TZOFFSETFROM:-0600
TZOFFSETTO:-0500
TZNAME:CDT
DTSTART:20250309T080000
END:DAYLIGHT
BEGIN:STANDARD
TZOFFSETFROM:-0500
TZOFFSETTO:-0600
TZNAME:CST
DTSTART:20251102T070000
END:STANDARD
BEGIN:DAYLIGHT
TZOFFSETFROM:-0600
TZOFFSETTO:-0500
TZNAME:CDT
DTSTART:20260308T080000
END:DAYLIGHT
BEGIN:STANDARD
TZOFFSETFROM:-0500
TZOFFSETTO:-0600
TZNAME:CST
DTSTART:20261101T070000
END:STANDARD
BEGIN:DAYLIGHT
TZOFFSETFROM:-0600
TZOFFSETTO:-0500
TZNAME:CDT
DTSTART:20270314T080000
END:DAYLIGHT
BEGIN:STANDARD
TZOFFSETFROM:-0500
TZOFFSETTO:-0600
TZNAME:CST
DTSTART:20271107T070000
END:STANDARD
END:VTIMEZONE
BEGIN:VEVENT
DTSTART;TZID=America/Chicago:20260217T120000
DTEND;TZID=America/Chicago:20260217T160000
DTSTAMP:20260419T123117
CREATED:20260314T171830Z
LAST-MODIFIED:20260314T171912Z
UID:10000255-1771329600-1771344000@cres.school
SUMMARY:TREC Legal Update II
DESCRIPTION:TREC Legal Update II \n\n\n\n[course# 10075-RECE] \n\n\n\n\n\n\nRegister
URL:https://cres.school/event/trec-legal-update-ii/
END:VEVENT
BEGIN:VEVENT
DTSTART;TZID=America/Chicago:20260219T120000
DTEND;TZID=America/Chicago:20260219T130000
DTSTAMP:20260419T123117
CREATED:20260314T172101Z
LAST-MODIFIED:20260314T172137Z
UID:10000256-1771502400-1771506000@cres.school
SUMMARY:Dissecting the Loan Assumption Addendum
DESCRIPTION:Dissecting the Loan Assumption Addendum [course# 37910-RECE] \n\n\n\n\n\n\nRegister
URL:https://cres.school/event/dissecting-the-loan-assumption-addendum-2/
END:VEVENT
BEGIN:VEVENT
DTSTART;TZID=America/Chicago:20260303T120000
DTEND;TZID=America/Chicago:20260303T150000
DTSTAMP:20260419T123117
CREATED:20260314T172314Z
LAST-MODIFIED:20260314T172349Z
UID:10000257-1772539200-1772550000@cres.school
SUMMARY:Dissecting the Commercial Contract
DESCRIPTION:Dissecting the Commercial Contract \n\n\n\n[course# 37915-RECE] \n\n\n\n\n\n\nRegister
URL:https://cres.school/event/dissecting-the-commercial-contract/
END:VEVENT
BEGIN:VEVENT
DTSTART;TZID=America/Chicago:20260305T120000
DTEND;TZID=America/Chicago:20260305T160000
DTSTAMP:20260419T123117
CREATED:20260314T172544Z
LAST-MODIFIED:20260314T172619Z
UID:10000258-1772712000-1772726400@cres.school
SUMMARY:TREC Legal Update II
DESCRIPTION:TREC Legal Update II \n\n\n\n[course# 10075-RECE] \n\n\n\n\n\n\nRegister
URL:https://cres.school/event/trec-legal-update-ii-2/
END:VEVENT
BEGIN:VEVENT
DTSTART;TZID=America/Chicago:20260310T120000
DTEND;TZID=America/Chicago:20260310T160000
DTSTAMP:20260419T123117
CREATED:20260314T172759Z
LAST-MODIFIED:20260314T172840Z
UID:10000259-1773144000-1773158400@cres.school
SUMMARY:Dissecting the Farm & Ranch Contract
DESCRIPTION:Dissecting the Farm & Ranch Contract \n\n\n\n[course# 37917-RECE] \n\n\n\n\n\n\nRegister
URL:https://cres.school/event/dissecting-the-farm-ranch-contract/
END:VEVENT
BEGIN:VEVENT
DTSTART;TZID=America/Chicago:20260312T120000
DTEND;TZID=America/Chicago:20260312T130000
DTSTAMP:20260419T123117
CREATED:20260314T173000Z
LAST-MODIFIED:20260314T173035Z
UID:10000260-1773316800-1773320400@cres.school
SUMMARY:Constructing Back Up Offers
DESCRIPTION:Constructing Back Up Offers \n\n\n\n[course# 37911-RECE] \n\n\n\n\n\n\nRegister
URL:https://cres.school/event/constructing-back-up-offers-2/
END:VEVENT
BEGIN:VEVENT
DTSTART;TZID=America/Chicago:20260317T120000
DTEND;TZID=America/Chicago:20260317T160000
DTSTAMP:20260419T123117
CREATED:20260314T173145Z
LAST-MODIFIED:20260314T173224Z
UID:10000261-1773748800-1773763200@cres.school
SUMMARY:TREC Legal Update I
DESCRIPTION:TREC Legal Update I \n\n\n\n[course# 10074-RECE] \n\n\n\n\n\n\nRegister
URL:https://cres.school/event/trec-legal-update-i-2/
END:VEVENT
BEGIN:VEVENT
DTSTART;TZID=America/Chicago:20260402T120000
DTEND;TZID=America/Chicago:20260402T160000
DTSTAMP:20260419T123117
CREATED:20260314T173818Z
LAST-MODIFIED:20260314T173856Z
UID:10000262-1775131200-1775145600@cres.school
SUMMARY:TREC Legal Update I
DESCRIPTION:TREC Legal Update I \n\n\n\n[course# 10074-RECE] \n\n\n\n\n\n\nRegister
URL:https://cres.school/event/trec-legal-update-i-3/
END:VEVENT
BEGIN:VEVENT
DTSTART;TZID=America/Chicago:20260407T120000
DTEND;TZID=America/Chicago:20260407T160000
DTSTAMP:20260419T123117
CREATED:20260314T174227Z
LAST-MODIFIED:20260314T174308Z
UID:10000263-1775563200-1775577600@cres.school
SUMMARY:TREC Legal Update II
DESCRIPTION:TREC Legal Update II \n\n\n\n[course# 10075-RECE] \n\n\n\n\n\n\nRegister
URL:https://cres.school/event/trec-legal-update-ii-3/
END:VEVENT
BEGIN:VEVENT
DTSTART;TZID=America/Chicago:20260409T120000
DTEND;TZID=America/Chicago:20260409T130000
DTSTAMP:20260419T123117
CREATED:20260314T174522Z
LAST-MODIFIED:20260314T174559Z
UID:10000264-1775736000-1775739600@cres.school
SUMMARY:Making Offers Contingent On Buyer Selling Their Home First
DESCRIPTION:Making Offers Contingent On Buyer Selling Their Home First \n\n\n\n[course# 37914-RECE] \n\n\n\n\n\n\nRegister
URL:https://cres.school/event/making-offers-contingent-on-buyer-selling-their-home-first-2/
END:VEVENT
BEGIN:VEVENT
DTSTART;TZID=America/Chicago:20260414T120000
DTEND;TZID=America/Chicago:20260414T150000
DTSTAMP:20260419T123117
CREATED:20260314T174715Z
LAST-MODIFIED:20260314T174756Z
UID:10000265-1776168000-1776178800@cres.school
SUMMARY:Reduce Liability via General Information and Notice To Consumer
DESCRIPTION:Reduce Liability via General Information and Notice To Consumer \n\n\n\n[course# 37912-RECE] \n\n\n\n\n\n\nRegister
URL:https://cres.school/event/reduce-liability-via-general-information-and-notice-to-consumer-2/
END:VEVENT
BEGIN:VEVENT
DTSTART;TZID=America/Chicago:20260416T120000
DTEND;TZID=America/Chicago:20260416T150000
DTSTAMP:20260419T123117
CREATED:20260314T175011Z
LAST-MODIFIED:20260314T175053Z
UID:10000266-1776340800-1776351600@cres.school
SUMMARY:Dissecting the Listing Agreement
DESCRIPTION:Dissecting the Listing Agreement \n\n\n\n[course# 37913-RECE] \n\n\n\n\n\n\nRegister
URL:https://cres.school/event/dissecting-the-listing-agreement-2/
END:VEVENT
BEGIN:VEVENT
DTSTART;TZID=America/Chicago:20260421T120000
DTEND;TZID=America/Chicago:20260421T140000
DTSTAMP:20260419T123117
CREATED:20260314T175202Z
LAST-MODIFIED:20260314T175243Z
UID:10000267-1776772800-1776780000@cres.school
SUMMARY:Securing Buyer's Rep Commission
DESCRIPTION:Securing Buyer’s Rep Commission \n\n\n\n[course# 37906-RECE] \n\n\n\n\n\n\nRegister
URL:https://cres.school/event/securing-buyers-rep-commission-2/
END:VEVENT
BEGIN:VEVENT
DTSTART;TZID=America/Chicago:20260505T120000
DTEND;TZID=America/Chicago:20260505T130000
DTSTAMP:20260419T123117
CREATED:20260314T181437Z
LAST-MODIFIED:20260314T181512Z
UID:10000268-1777982400-1777986000@cres.school
SUMMARY:Constructing Back Up Offers
DESCRIPTION:Constructing Back Up Offers \n\n\n\n[course# 37911-RECE] \n\n\n\n\n\n\nRegister
URL:https://cres.school/event/constructing-back-up-offers-3/
END:VEVENT
BEGIN:VEVENT
DTSTART;TZID=America/Chicago:20260507T120000
DTEND;TZID=America/Chicago:20260507T150000
DTSTAMP:20260419T123117
CREATED:20260314T181634Z
LAST-MODIFIED:20260314T181716Z
UID:10000269-1778155200-1778166000@cres.school
SUMMARY:Dissecting the 1 to 4 Family Contract
DESCRIPTION:Dissecting the 1 to 4 Family Contract \n\n\n\n[course# 37916-RECE] \n\n\n\n\n\n\nRegister
URL:https://cres.school/event/dissecting-the-1-to-4-family-contract-2/
END:VEVENT
BEGIN:VEVENT
DTSTART;TZID=America/Chicago:20260512T120000
DTEND;TZID=America/Chicago:20260512T130000
DTSTAMP:20260419T123117
CREATED:20260314T181848Z
LAST-MODIFIED:20260314T181929Z
UID:10000270-1778587200-1778590800@cres.school
SUMMARY:Dissecting the Seller Financing Addendum
DESCRIPTION:Dissecting the Seller Financing Addendum [course# 37909-RECE] \n\n\n\n\n\n\nRegister
URL:https://cres.school/event/dissecting-the-seller-financing-addendum-3/
END:VEVENT
BEGIN:VEVENT
DTSTART;TZID=America/Chicago:20260514T120000
DTEND;TZID=America/Chicago:20260514T130000
DTSTAMP:20260419T123117
CREATED:20260314T182047Z
LAST-MODIFIED:20260314T182128Z
UID:10000271-1778760000-1778763600@cres.school
SUMMARY:Dissecting the Loan Assumption Addendum
DESCRIPTION:Dissecting the Loan Assumption Addendum [course# 37910-RECE] \n\n\n\n\n\n\nRegister
URL:https://cres.school/event/dissecting-the-loan-assumption-addendum-3/
END:VEVENT
BEGIN:VEVENT
DTSTART;TZID=America/Chicago:20260519T120000
DTEND;TZID=America/Chicago:20260519T160000
DTSTAMP:20260419T123117
CREATED:20260314T182252Z
LAST-MODIFIED:20260314T182335Z
UID:10000272-1779192000-1779206400@cres.school
SUMMARY:TREC Legal Update I
DESCRIPTION:TREC Legal Update I \n\n\n\n[course# 10074-RECE] \n\n\n\n\n\n\nRegister
URL:https://cres.school/event/trec-legal-update-i-4/
END:VEVENT
BEGIN:VEVENT
DTSTART;TZID=America/Chicago:20260521T120000
DTEND;TZID=America/Chicago:20260521T160000
DTSTAMP:20260419T123117
CREATED:20260314T182439Z
LAST-MODIFIED:20260314T182516Z
UID:10000273-1779364800-1779379200@cres.school
SUMMARY:TREC Legal Update II
DESCRIPTION:TREC Legal Update II \n\n\n\n[course# 10075-RECE] \n\n\n\n\n\n\nRegister
URL:https://cres.school/event/trec-legal-update-ii-4/
END:VEVENT
BEGIN:VEVENT
DTSTART;TZID=America/Chicago:20260602T120000
DTEND;TZID=America/Chicago:20260602T130000
DTSTAMP:20260419T123117
CREATED:20260314T182634Z
LAST-MODIFIED:20260314T182713Z
UID:10000274-1780401600-1780405200@cres.school
SUMMARY:Making Offers Contingent On Buyer Selling Their Own Home First
DESCRIPTION:Making Offers Contingent On Buyer Selling Their Own Home First \n\n\n\n[course# 37914-RECE] \n\n\n\n\n\n\nRegister
URL:https://cres.school/event/making-offers-contingent-on-buyer-selling-their-own-home-first/
END:VEVENT
BEGIN:VEVENT
DTSTART;TZID=America/Chicago:20260604T120000
DTEND;TZID=America/Chicago:20260604T160000
DTSTAMP:20260419T123117
CREATED:20260314T182918Z
LAST-MODIFIED:20260314T182959Z
UID:10000275-1780574400-1780588800@cres.school
SUMMARY:TREC Legal Update I
DESCRIPTION:TREC Legal Update I \n\n\n\n[course# 10074-RECE] \n\n\n\n\n\n\nRegister
URL:https://cres.school/event/trec-legal-update-i-5/
END:VEVENT
BEGIN:VEVENT
DTSTART;TZID=America/Chicago:20260609T120000
DTEND;TZID=America/Chicago:20260609T160000
DTSTAMP:20260419T123117
CREATED:20260314T183052Z
LAST-MODIFIED:20260314T183127Z
UID:10000276-1781006400-1781020800@cres.school
SUMMARY:TREC Legal Update II
DESCRIPTION:TREC Legal Update II \n\n\n\n[course# 10075-RECE] \n\n\n\n\n\n\nRegister
URL:https://cres.school/event/trec-legal-update-ii-5/
END:VEVENT
BEGIN:VEVENT
DTSTART;TZID=America/Chicago:20260611T120000
DTEND;TZID=America/Chicago:20260611T160000
DTSTAMP:20260419T123117
CREATED:20260314T183346Z
LAST-MODIFIED:20260314T183427Z
UID:10000277-1781179200-1781193600@cres.school
SUMMARY:Dissecting the Farm and Ranch Contract
DESCRIPTION:Dissecting the Farm and Ranch Contract \n\n\n\n[course# 37917-RECE] \n\n\n\n\n\n\nRegister
URL:https://cres.school/event/dissecting-the-farm-and-ranch-contract/
END:VEVENT
BEGIN:VEVENT
DTSTART;TZID=America/Chicago:20260616T120000
DTEND;TZID=America/Chicago:20260616T150000
DTSTAMP:20260419T123117
CREATED:20260314T183545Z
LAST-MODIFIED:20260314T183623Z
UID:10000278-1781611200-1781622000@cres.school
SUMMARY:Dissecting the Commercial Contract
DESCRIPTION:Dissecting the Commercial Contract \n\n\n\n[course# 37915-RECE] \n\n\n\n\n\n\nRegister
URL:https://cres.school/event/dissecting-the-commercial-contract-2/
END:VEVENT
BEGIN:VEVENT
DTSTART;TZID=America/Chicago:20260618T120000
DTEND;TZID=America/Chicago:20260618T130000
DTSTAMP:20260419T123117
CREATED:20260314T184137Z
LAST-MODIFIED:20260314T184212Z
UID:10000279-1781784000-1781787600@cres.school
SUMMARY:Constructing Back Up Offers
DESCRIPTION:Constructing Back Up Offers \n\n\n\n[course# 37911-RECE] \n\n\n\n\n\n\nRegister
URL:https://cres.school/event/constructing-back-up-offers-4/
END:VEVENT
BEGIN:VEVENT
DTSTART;TZID=America/Chicago:20260623T120000
DTEND;TZID=America/Chicago:20260623T140000
DTSTAMP:20260419T123117
CREATED:20260314T184433Z
LAST-MODIFIED:20260314T184513Z
UID:10000280-1782216000-1782223200@cres.school
SUMMARY:Securing Buyer's Rep Commission
DESCRIPTION:Securing Buyer’s Rep Commission \n\n\n\n[course# 37906-RECE] \n\n\n\n\n\n\nRegister
URL:https://cres.school/event/securing-buyers-rep-commission-3/
END:VEVENT
END:VCALENDAR