BEGIN:VCALENDAR
VERSION:2.0
PRODID:-//Chiaki Real Estate School - ECPv6.15.17.1//NONSGML v1.0//EN
CALSCALE:GREGORIAN
METHOD:PUBLISH
X-WR-CALNAME:Chiaki Real Estate School
X-ORIGINAL-URL:https://cres.school
X-WR-CALDESC:Events for Chiaki Real Estate School
REFRESH-INTERVAL;VALUE=DURATION:PT1H
X-Robots-Tag:noindex
X-PUBLISHED-TTL:PT1H
BEGIN:VTIMEZONE
TZID:America/Chicago
BEGIN:DAYLIGHT
TZOFFSETFROM:-0600
TZOFFSETTO:-0500
TZNAME:CDT
DTSTART:20240310T080000
END:DAYLIGHT
BEGIN:STANDARD
TZOFFSETFROM:-0500
TZOFFSETTO:-0600
TZNAME:CST
DTSTART:20241103T070000
END:STANDARD
BEGIN:DAYLIGHT
TZOFFSETFROM:-0600
TZOFFSETTO:-0500
TZNAME:CDT
DTSTART:20250309T080000
END:DAYLIGHT
BEGIN:STANDARD
TZOFFSETFROM:-0500
TZOFFSETTO:-0600
TZNAME:CST
DTSTART:20251102T070000
END:STANDARD
BEGIN:DAYLIGHT
TZOFFSETFROM:-0600
TZOFFSETTO:-0500
TZNAME:CDT
DTSTART:20260308T080000
END:DAYLIGHT
BEGIN:STANDARD
TZOFFSETFROM:-0500
TZOFFSETTO:-0600
TZNAME:CST
DTSTART:20261101T070000
END:STANDARD
END:VTIMEZONE
BEGIN:VEVENT
DTSTART;TZID=America/Chicago:20250701T120000
DTEND;TZID=America/Chicago:20250701T160000
DTSTAMP:20260419T210822
CREATED:20250213T061120Z
LAST-MODIFIED:20250312T163235Z
UID:10000204-1751371200-1751385600@cres.school
SUMMARY:July 1st Legal Update I
DESCRIPTION:
URL:https://cres.school/event/july-1st-legal-update-i/
CATEGORIES:TREC Legal Update 1
LOCATION:https://us02web.zoom.us/j/83568685267?pwd=SzbLeAKTzqqvvhZbpozjmMhazb0u2W.1
END:VEVENT
BEGIN:VEVENT
DTSTART;TZID=America/Chicago:20250703T120000
DTEND;TZID=America/Chicago:20250703T160000
DTSTAMP:20260419T210822
CREATED:20250213T061252Z
LAST-MODIFIED:20250312T163243Z
UID:10000205-1751544000-1751558400@cres.school
SUMMARY:July 3rd Legal Update II
DESCRIPTION:
URL:https://cres.school/event/july-3rd-legal-update-ii/
CATEGORIES:TREC Legal Update 2
LOCATION:https://us02web.zoom.us/j/81409304758?pwd=g9t8hNO59aM2MXtP0cJmmbMBUIYt15.1
END:VEVENT
BEGIN:VEVENT
DTSTART;TZID=America/Chicago:20250708T120000
DTEND;TZID=America/Chicago:20250708T150000
DTSTAMP:20260419T210822
CREATED:20250213T061459Z
LAST-MODIFIED:20250312T163251Z
UID:10000206-1751976000-1751986800@cres.school
SUMMARY:July 8th Exploring the 1 to 4 Family Contract
DESCRIPTION:
URL:https://cres.school/event/july-8th-exploring-the-1-to-4-family-contract/
CATEGORIES:Exploring the 1 to 4 Family Contract
LOCATION:https://us02web.zoom.us/j/82476804904?pwd=gxz76AVamwSFkmCbqWbfimG6C0LNaV.1
END:VEVENT
BEGIN:VEVENT
DTSTART;TZID=America/Chicago:20250710T120000
DTEND;TZID=America/Chicago:20250710T150000
DTSTAMP:20260419T210822
CREATED:20250213T061627Z
LAST-MODIFIED:20250312T163405Z
UID:10000207-1752148800-1752159600@cres.school
SUMMARY:July 10th Exploring the Commercial Contract
DESCRIPTION:
URL:https://cres.school/event/july-10th-exploring-the-commercial-contract/
CATEGORIES:Exploring the Commercial Contract
LOCATION:https://us02web.zoom.us/j/82138339635?pwd=geWYFMSzdWd2MdTLkphnZQZWOqxUXW.1
END:VEVENT
BEGIN:VEVENT
DTSTART;TZID=America/Chicago:20250715T120000
DTEND;TZID=America/Chicago:20250715T160000
DTSTAMP:20260419T210822
CREATED:20250213T061741Z
LAST-MODIFIED:20250312T163257Z
UID:10000208-1752580800-1752595200@cres.school
SUMMARY:July 15th Exploring the Farm & Ranch Contract
DESCRIPTION:
URL:https://cres.school/event/july-15th-exploring-the-farm-ranch-contract/
CATEGORIES:Exploring the Farm and Ranch Contract
LOCATION:https://us02web.zoom.us/j/84367761080?pwd=5niDM6fCUTLUkPGjmywfN2gVZVWjkQ.1
END:VEVENT
END:VCALENDAR