BEGIN:VCALENDAR
VERSION:2.0
PRODID:-//Chiaki Real Estate School - ECPv6.15.17.1//NONSGML v1.0//EN
CALSCALE:GREGORIAN
METHOD:PUBLISH
X-ORIGINAL-URL:https://cres.school
X-WR-CALDESC:Events for Chiaki Real Estate School
REFRESH-INTERVAL;VALUE=DURATION:PT1H
X-Robots-Tag:noindex
X-PUBLISHED-TTL:PT1H
BEGIN:VTIMEZONE
TZID:America/Chicago
BEGIN:DAYLIGHT
TZOFFSETFROM:-0600
TZOFFSETTO:-0500
TZNAME:CDT
DTSTART:20240310T080000
END:DAYLIGHT
BEGIN:STANDARD
TZOFFSETFROM:-0500
TZOFFSETTO:-0600
TZNAME:CST
DTSTART:20241103T070000
END:STANDARD
BEGIN:DAYLIGHT
TZOFFSETFROM:-0600
TZOFFSETTO:-0500
TZNAME:CDT
DTSTART:20250309T080000
END:DAYLIGHT
BEGIN:STANDARD
TZOFFSETFROM:-0500
TZOFFSETTO:-0600
TZNAME:CST
DTSTART:20251102T070000
END:STANDARD
BEGIN:DAYLIGHT
TZOFFSETFROM:-0600
TZOFFSETTO:-0500
TZNAME:CDT
DTSTART:20260308T080000
END:DAYLIGHT
BEGIN:STANDARD
TZOFFSETFROM:-0500
TZOFFSETTO:-0600
TZNAME:CST
DTSTART:20261101T070000
END:STANDARD
END:VTIMEZONE
BEGIN:VEVENT
DTSTART;TZID=America/Chicago:20250902T120000
DTEND;TZID=America/Chicago:20250902T160000
DTSTAMP:20260419T190633
CREATED:20250213T064415Z
LAST-MODIFIED:20250312T163710Z
UID:10000214-1756814400-1756828800@cres.school
SUMMARY:September 2nd Legal Update I
DESCRIPTION:
URL:https://cres.school/event/september-2nd-legal-update-i/
CATEGORIES:TREC Legal Update 1
LOCATION:https://us02web.zoom.us/j/82460974634?pwd=pa3LacaE3dOHsP8aJEda1akqmehg9l.1
END:VEVENT
BEGIN:VEVENT
DTSTART;TZID=America/Chicago:20250904T120000
DTEND;TZID=America/Chicago:20250904T160000
DTSTAMP:20260419T190633
CREATED:20250213T064548Z
LAST-MODIFIED:20250312T163716Z
UID:10000215-1756987200-1757001600@cres.school
SUMMARY:September 4th Legal Update II
DESCRIPTION:
URL:https://cres.school/event/september-4th-legal-update-ii/
CATEGORIES:TREC Legal Update 2
LOCATION:https://us02web.zoom.us/j/83877610385?pwd=hutXFqrf8W49ia6273bf85yeuCOY3W.1
END:VEVENT
END:VCALENDAR