BEGIN:VCALENDAR
VERSION:2.0
PRODID:-//Chiaki Real Estate School - ECPv6.15.17.1//NONSGML v1.0//EN
CALSCALE:GREGORIAN
METHOD:PUBLISH
X-ORIGINAL-URL:https://cres.school
X-WR-CALDESC:Events for Chiaki Real Estate School
REFRESH-INTERVAL;VALUE=DURATION:PT1H
X-Robots-Tag:noindex
X-PUBLISHED-TTL:PT1H
BEGIN:VTIMEZONE
TZID:America/Chicago
BEGIN:DAYLIGHT
TZOFFSETFROM:-0600
TZOFFSETTO:-0500
TZNAME:CDT
DTSTART:20240310T080000
END:DAYLIGHT
BEGIN:STANDARD
TZOFFSETFROM:-0500
TZOFFSETTO:-0600
TZNAME:CST
DTSTART:20241103T070000
END:STANDARD
BEGIN:DAYLIGHT
TZOFFSETFROM:-0600
TZOFFSETTO:-0500
TZNAME:CDT
DTSTART:20250309T080000
END:DAYLIGHT
BEGIN:STANDARD
TZOFFSETFROM:-0500
TZOFFSETTO:-0600
TZNAME:CST
DTSTART:20251102T070000
END:STANDARD
BEGIN:DAYLIGHT
TZOFFSETFROM:-0600
TZOFFSETTO:-0500
TZNAME:CDT
DTSTART:20260308T080000
END:DAYLIGHT
BEGIN:STANDARD
TZOFFSETFROM:-0500
TZOFFSETTO:-0600
TZNAME:CST
DTSTART:20261101T070000
END:STANDARD
END:VTIMEZONE
BEGIN:VEVENT
DTSTART;TZID=America/Chicago:20250909T120000
DTEND;TZID=America/Chicago:20250909T150000
DTSTAMP:20260419T211158
CREATED:20250213T064722Z
LAST-MODIFIED:20250312T163724Z
UID:10000216-1757419200-1757430000@cres.school
SUMMARY:September 9th Exploring the 1 to 4 Family Contract
DESCRIPTION:
URL:https://cres.school/event/september-9th-exploring-the-1-to-4-family-contract/
CATEGORIES:Exploring the 1 to 4 Family Contract
LOCATION:https://us02web.zoom.us/j/86735325388?pwd=b7ReOppWNPgv7fIsbqC7HRKEJhkIfP.1
END:VEVENT
BEGIN:VEVENT
DTSTART;TZID=America/Chicago:20250911T120000
DTEND;TZID=America/Chicago:20250911T150000
DTSTAMP:20260419T211158
CREATED:20250213T064957Z
LAST-MODIFIED:20250312T163731Z
UID:10000217-1757592000-1757602800@cres.school
SUMMARY:September 11th Exploring the Commercial Contract
DESCRIPTION:
URL:https://cres.school/event/september-11th-exploring-the-commercial-contract/
CATEGORIES:Exploring the Commercial Contract
LOCATION:https://us02web.zoom.us/j/87377408004?pwd=w4IoYg8s7EHCLWKVEsiwGEoaSlSkDR.1
END:VEVENT
END:VCALENDAR