BEGIN:VCALENDAR
VERSION:2.0
PRODID:-//Chiaki Real Estate School - ECPv6.15.17.1//NONSGML v1.0//EN
CALSCALE:GREGORIAN
METHOD:PUBLISH
X-ORIGINAL-URL:https://cres.school
X-WR-CALDESC:Events for Chiaki Real Estate School
REFRESH-INTERVAL;VALUE=DURATION:PT1H
X-Robots-Tag:noindex
X-PUBLISHED-TTL:PT1H
BEGIN:VTIMEZONE
TZID:America/Chicago
BEGIN:DAYLIGHT
TZOFFSETFROM:-0600
TZOFFSETTO:-0500
TZNAME:CDT
DTSTART:20250309T080000
END:DAYLIGHT
BEGIN:STANDARD
TZOFFSETFROM:-0500
TZOFFSETTO:-0600
TZNAME:CST
DTSTART:20251102T070000
END:STANDARD
BEGIN:DAYLIGHT
TZOFFSETFROM:-0600
TZOFFSETTO:-0500
TZNAME:CDT
DTSTART:20260308T080000
END:DAYLIGHT
BEGIN:STANDARD
TZOFFSETFROM:-0500
TZOFFSETTO:-0600
TZNAME:CST
DTSTART:20261101T070000
END:STANDARD
BEGIN:DAYLIGHT
TZOFFSETFROM:-0600
TZOFFSETTO:-0500
TZNAME:CDT
DTSTART:20270314T080000
END:DAYLIGHT
BEGIN:STANDARD
TZOFFSETFROM:-0500
TZOFFSETTO:-0600
TZNAME:CST
DTSTART:20271107T070000
END:STANDARD
END:VTIMEZONE
BEGIN:VEVENT
DTSTART;TZID=America/Chicago:20260210T120000
DTEND;TZID=America/Chicago:20260210T160000
DTSTAMP:20260419T122428
CREATED:20260314T171207Z
LAST-MODIFIED:20260314T171243Z
UID:10000253-1770724800-1770739200@cres.school
SUMMARY:TREC Legal Update I
DESCRIPTION:TREC Legal Update I \n\n\n\n[course# 10074-RECE] \n\n\n\n\n\n\nRegister
URL:https://cres.school/event/trec-legal-update-i/
END:VEVENT
BEGIN:VEVENT
DTSTART;TZID=America/Chicago:20260212T120000
DTEND;TZID=America/Chicago:20260212T130000
DTSTAMP:20260419T122428
CREATED:20260314T171427Z
LAST-MODIFIED:20260314T171502Z
UID:10000254-1770897600-1770901200@cres.school
SUMMARY:Dissecting the Seller Financing Addendum
DESCRIPTION:Dissecting the Seller Financing Addendum [course# 37909-RECE] \n\n\n\n\n\n\nRegister
URL:https://cres.school/event/dissecting-the-seller-financing-addendum-2/
END:VEVENT
END:VCALENDAR